BEGIN:VCALENDAR
VERSION:2.0
METHOD:PUBLISH
BEGIN:VEVENT
UID:69e8c59eacf25
DTSTART:20260427T170000
DTEND:20260427T190000
TRANSP: OPAQUE
SEQUENCE:0
DTSTAMP:20260422T125702Z
SUMMARY:Annual General Meeting 2026
DESCRIPTION:Stockholm
PRIORITY:1
CLASS:PUBLIC
END:VEVENT
END:VCALENDAR