BEGIN:VCALENDAR
VERSION:2.0
METHOD:PUBLISH
BEGIN:VEVENT
UID:69e8c57456d46
DTSTART:20260424
DTEND:20260424
TRANSP: OPAQUE
SEQUENCE:0
DTSTAMP:20260422T125620Z
SUMMARY:1Q26 Roadshow
DESCRIPTION:Stockholm
PRIORITY:1
CLASS:PUBLIC
END:VEVENT
END:VCALENDAR