BEGIN:VCALENDAR
VERSION:2.0
METHOD:PUBLISH
BEGIN:VEVENT
UID:69e8c47bd2d9e
DTSTART:20260428
DTEND:20260428
TRANSP: OPAQUE
SEQUENCE:0
DTSTAMP:20260422T125211Z
SUMMARY:1Q26 Roadshow
DESCRIPTION:Frankfurt
PRIORITY:1
CLASS:PUBLIC
END:VEVENT
END:VCALENDAR