BEGIN:VCALENDAR
VERSION:2.0
METHOD:PUBLISH
BEGIN:VEVENT
UID:69eb621b102d2
DTSTART:20260520
DTEND:20260520
TRANSP: OPAQUE
SEQUENCE:0
DTSTAMP:20260424T122915Z
SUMMARY:Berenberg European Conference
DESCRIPTION:New York
PRIORITY:1
CLASS:PUBLIC
END:VEVENT
END:VCALENDAR