BEGIN:VCALENDAR
VERSION:2.0
METHOD:PUBLISH
BEGIN:VEVENT
UID:69ecb6d7b6c49
DTSTART:20260527
DTEND:20260527
TRANSP: OPAQUE
SEQUENCE:0
DTSTAMP:20260425T124303Z
SUMMARY:Carnegie Savings Platform Seminar
DESCRIPTION:Stockholm
PRIORITY:1
CLASS:PUBLIC
END:VEVENT
END:VCALENDAR