BEGIN:VCALENDAR
VERSION:2.0
METHOD:PUBLISH
BEGIN:VEVENT
UID:69e5e3b818dd4
DTSTART:20260506T083000
DTEND:20260506T083000
TRANSP: OPAQUE
SEQUENCE:0
DTSTAMP:20260420T082840Z
SUMMARY:Monthly statistics April
DESCRIPTION:08:30 CET
PRIORITY:1
CLASS:PUBLIC
END:VEVENT
END:VCALENDAR